BEGIN:VCALENDAR
VERSION:2.0
PRODID:-//BPS
CALSCALE:GREGORIAN
METHOD:PUBLISH
X-WR-CALNAME:BPS
X-ORIGINAL-URL:http://belairps.sa.edu.au/k-event/momoyama-elementary-school-exchange-program/
X-WR-CALDESC:Momoyama Elementary School Exchange Program
BEGIN:VEVENT
DTSTART:
DTEND:
SUMMARY:Momoyama Elementary School Exchange Program
DESCRIPTION:
LOCATION:
END:VEVENT
END:VCALENDAR
