BEGIN:VCALENDAR
VERSION:2.0
PRODID:-//BPS
CALSCALE:GREGORIAN
METHOD:PUBLISH
X-WR-CALNAME:BPS
X-ORIGINAL-URL:http://belairps.sa.edu.au/k-event/final-end-year-assembly/
X-WR-CALDESC:Final End of Year Assembly
BEGIN:VEVENT
DTSTART:
DTEND:
SUMMARY:Final End of Year Assembly
DESCRIPTION:
LOCATION:
END:VEVENT
END:VCALENDAR
