BEGIN:VCALENDAR
VERSION:2.0
PRODID:-//BPS
CALSCALE:GREGORIAN
METHOD:PUBLISH
X-WR-CALNAME:BPS
X-ORIGINAL-URL:http://belairps.sa.edu.au/k-event/sports-day/
X-WR-CALDESC:Sports Day
BEGIN:VEVENT
DTSTART:
DTEND:
SUMMARY:Sports Day
DESCRIPTION:
LOCATION:
END:VEVENT
END:VCALENDAR
