BEGIN:VCALENDAR
VERSION:2.0
PRODID:-//BPS
CALSCALE:GREGORIAN
METHOD:PUBLISH
X-WR-CALNAME:BPS
X-ORIGINAL-URL:http://belairps.sa.edu.au/k-event/pupil-free-day/
X-WR-CALDESC:Pupil Free Days
BEGIN:VEVENT
DTSTART:
DTEND:
SUMMARY:Pupil Free Days
DESCRIPTION:
LOCATION:
END:VEVENT
END:VCALENDAR
