BEGIN:VCALENDAR
VERSION:2.0
PRODID:-//BPS
CALSCALE:GREGORIAN
METHOD:PUBLISH
X-WR-CALNAME:BPS
X-ORIGINAL-URL:http://belairps.sa.edu.au/?post_type=post-k-event&p=3125
X-WR-CALDESC:Parent Information Evening
BEGIN:VEVENT
DTSTART:
DTEND:
SUMMARY:Parent Information Evening
DESCRIPTION:
LOCATION:
END:VEVENT
END:VCALENDAR
