BEGIN:VCALENDAR
VERSION:2.0
PRODID:-//BPS
CALSCALE:GREGORIAN
METHOD:PUBLISH
X-WR-CALNAME:BPS
X-ORIGINAL-URL:http://belairps.sa.edu.au/?post_type=post-k-event&p=1623
X-WR-CALDESC:First assembly of the year
BEGIN:VEVENT
DTSTART:
DTEND:
SUMMARY:First assembly of the year
DESCRIPTION:
LOCATION:
END:VEVENT
END:VCALENDAR
